Workbook

Sheet SANTIAGO LOPEZ 
B1: PROGRAMA DE ENTRENAMIENTO CODIGO 91 VERSION 2
A7: COLABORADOR | B7: CARGO | D7: PROCESO | F7: FECHA DE INGRESO
A8: SANTIAGO LOPEZ AGUIRRE | B8: Operario de PTAR | D8: ACUEDUCTO Y ALCANTARILLADO | F8: 05 de Marzo 2026
A10: TEMA A ENTRENAR | B10: RECURSOS | C10: TIEMPO(1) (horas) | D10: RESPONSABLE DE IMPARTIR EL ENTRENAMIENTO | E10: FECHA / HORA | F10: FIRMA RESPONSABLE DE IMPARTIR EL ENTRENAMIENTO
A11: Hacer mantenimiento al pozo de succión | B11: Tiempo Personal | C11: 4 horas | D11: Directora de plantas y laboratorio
A12: Hacer mantenimiento a la planta y estación de bombeo | B12: Tiempo Personal | C12: 2 horas | D12: Directora de plantas y laboratorio
A13: Llevar registro de la muestra | B13: Tiempo Personal | C13: 8 horas | D13: Directora de plantas y laboratorio
A14: Realizar las purgas de lodos hacia el redactor UASB | B14: Tiempo Personal | C14: 2 horas | D14: Directora de plantas y laboratorio
A15: Realizar el proceso de los lodos deshidratados | B15: Tiempo Personal | C15: 6 horas | D15: Directora de plantas y laboratorio
A16: Realizar el mantenimiento a la finca Mantenimiento de zonas verdes | B16: Tiempo Personal | C16: 2 horas | D16: Directora de plantas y laboratorio
A17: Llevar registro de las actividades que se realizan a diario | B17: Tiempo Personal | C17: 2 horas | D17: Directora de plantas y laboratorio
A18: Hacer recorridos a la planta a estudiantes | B18: Tiempo Personal | C18: 4 horas | D18: Directora de plantas y laboratorio
A19: (1) Los programas de entrenamiento tienen una duración máxima de 2 meses. Las horas asignadas a cada tema podrían ser modificadas de acuerdo con énfasis específicos que se quieran hacer.
A21: OBSERVACIONES DEL LÍDER INMEDIATO SOBRE EL ENTRENAMIENTO
A30: NOMBRE DEL LIDER INMEDIATO | B30: COLABORADOR | D30: FECHA

Sheet NEY DIAZ 
B1: PROGRAMA DE ENTRENAMIENTO CODIGO 91 VERSION 2
A7: COLABORADOR | B7: CARGO | D7: PROCESO | F7: FECHA DE INGRESO
A8: NEY DIAZ TARAZONA | B8: Operario de barrido | D8: Aseo | F8: 04 de Marzo 2026
A10: TEMA A ENTRENAR | B10: RECURSOS | C10: TIEMPO(1) (horas) | D10: RESPONSABLE DE IMPARTIR EL ENTRENAMIENTO | E10: FECHA / HORA | F10: FIRMA RESPONSABLE DE IMPARTIR EL ENTRENAMIENTO
A11: Reconocimiento de Rutas de barrido existentes en el Municipio: Barrido de Calles, Limpeza de cunetas, sumideros, tinacos, andenes, zonas verdes, desyerbe de vías, limpieza de lotes publicos, | B11: Tiempo Personal | C11: 10 Horas | D11: Supervisor de barrido
A12: Lavado de areas publicas y limpieza de zonas rivereñas de quebradas | B12: Tiempo Personal | C12: 3 horas | D12: SUPERVISOR DE BARIDO
A13: Manejo de Herramientas | B13: Tiempo Personal | C13: 1 hora | D13: Operario de de barrido
A14: Mantenimiento de Jardineras | B14: Tiempo Personal | C14: 1 hora | D14: Director Aseo - Contratista apoyo SST.
A15: Mantenimiento de Tinacos: Reparación, o lavado | B15: Tiempo Personal | C15: 1 hora | D15: Operario de barrido
A16: Atencion servicio calle peatonal, parque principal y malecom | B16: Tiempo Personal | C16: 2 horas | D16: Director Administrativo
A17: Apoyo servicio de guadañaje | B17: Tiempo Personal | C17: 4 horas | D17: Operario de barrido
A18: Cumplimiento de las normas de seguridad, higiene corporal y uso de los EPP. | B18: Tiempo Personal | C18: 6 horas | D18: SST
A19: (1) Los programas de entrenamiento tienen una duración máxima de 2 meses. Las horas asignadas a cada tema podrían ser modificadas de acuerdo con énfasis específicos que se quieran hacer.
A21: OBSERVACIONES DEL LÍDER INMEDIATO SOBRE EL ENTRENAMIENTO
A30: NOMBRE DEL LIDER INMEDIATO | B30: COLABORADOR | D30: FECHA

Sheet HANZ ZULUAGA  NOREÑA 
B1: PROGRAMA DE ENTRENAMIENTO CODIGO 91 VERSION 2
A7: COLABORADOR | B7: CARGO | D7: PROCESO | F7: FECHA DE INGRESO
A8: HANZ ZULUAGA NOREÑA | B8: Operario de recoleccion | D8: Aseo | F8: 25 de Febrero 2026
A10: TEMA A ENTRENAR | B10: RECURSOS | C10: TIEMPO(1) (horas) | D10: RESPONSABLE DE IMPARTIR EL ENTRENAMIENTO | E10: FECHA / HORA | F10: FIRMA RESPONSABLE DE IMPARTIR EL ENTRENAMIENTO
A11: Rutas de Recolección de residuos organicos e inorgánicos y cuidados en vias publicas y carro recolector | B11: Tiempo Personal | C11: 16 horas | D11: Operario de Recolección
A12: Manejo y Operación del Relleno Sanitario: Recorrido, Uso de EPP | B12: Tiempo Personal | C12: 2 horas | D12: Operario de Recolección
A13: Manejo y Operación del Relleno Sanitario: Recorrido, Uso de EPP | B13: Tiempo Personal | C13: 16 horas | D13: Operario de Recolección
A14: Limpieza de Cunetas y/o desagues | B14: Tiempo Personal | C14: 1 hora | D14: Operario de Recolección
A15: Conformación de Chimeneas | B15: Tiempo Personal | C15: 16 horas | D15: Operario de Recolección
A16: Mantenimiento de la Vía de Entrada con sus respectivos desagues | B16: Tiempo Personal | C16: 1 hora | D16: Operario de Recolección
A17: Separación de Material Organico, conformación de pilas, apiques a las pilas. | B17: Tiempo Personal | C17: 2 Horas | D17: Operario de Recolección
A18: Manejo de la Planta de lixiviados | B18: Tiempo Personal | C18: 1 hora | D18: Operario de Recolección
A19: Rutas de Recolección organicos e inorgánicos donde no ingresa el vehículo | B19: Tiempo Personal | C19: 8 horas | D19: Operario de Recolección
A20: Precauciones de Manipulacion de Residuos Solidos | B20: Tiempo Personal | C20: 8 horas | D20: Operario de Recolección
A21: Manejo de Cajas Estacionarias | B21: Tiempo Personal | C21: 8 horas | D21: Operario de Recolección
A22: Mantenimiento de la lona | B22: Tiempo Personal | C22: 1 Horas | D22: Operario de Recolección
A23: (1) Los programas de entrenamiento tienen una duración máxima de 2 meses. Las horas asignadas a cada tema podrían ser modificadas de acuerdo con énfasis específicos que se quieran hacer.
A25: OBSERVACIONES DEL LÍDER INMEDIATO SOBRE EL ENTRENAMIENTO
A34: NOMBRE DEL LIDER INMEDIATO | B34: COLABORADOR | D34: FECHA

Sheet  ROBINSON  SOTO 
A1: PROGRAMA DE ENTRENAMIENTO | E1: CODIGO 91 VERSION 2
A7: COLABORADOR | C7: CARGO | D7: PROCESO
A8: ROBINSON ANDRES SOTO A | C8: CONDUCTOR CAMINETA | D8: ACUEDUCTO ALCANTARILLADO | E8: FECHA DE INGRESO
E9: FEBRERO/23/2026
D10: FECHA / HORA | E10: FIRMA RESPONSABLE DE IMPARTIR EL ENTRENAMIENTO
A11: Tiempo Personal | B11: 8 horas | C11: Director tecnico
A12: Tiempo Personal | B12: 8 horas | C12: Director tecnico
A13: Tiempo Personal | B13: 4 Horas | C13: Coordinadora SGI
A14: Tiempo Personal | B14: 6 horas | C14: Coordinador (a) Tecnica
A15: Tiempo Personal | B15: 10 horas | C15: Coordinadpora tecnica Operadores de acueducto y alcantarillado
A16: Tiempo personal | B16: 4 Horas | C16: Coordinador (a) Tecnica
A17: Tiempo Personal | B17: 6 horas | C17: Coordinador (a) Tecnica
A18: Tiempo Personal | B18: 4 horas | C18: Coordinadora Tecnica
A19: Tiempo Personal | B19: 2 Horas | C19: Coordinadora Tecnica
A20: Tiempo Personal | B20: 2 horas | C20: Coordinadora Tecnica
A21: Tiempo Personal | B21: 2 horas | C21: Coordinador SST
A22: Tiempo Personal | B22: 6 horas | C22: Coordinadora Tecnica
A31: NOMBRE DEL COLABORADOR | C31: FECHA

Sheet JUAN DAVID  SILVA  
B1: PROGRAMA DE ENTRENAMIENTO CODIGO 91 VERSION 2
A7: COLABORADOR | B7: CARGO | D7: PROCESO | F7: FECHA DE INGRESO
A8: JUAN DAVID SILVA GARCIA | B8: Operario de recoleccion | D8: Aseo | F8: 19 de Febrero 2026
A10: TEMA A ENTRENAR | B10: RECURSOS | C10: TIEMPO(1) (horas) | D10: RESPONSABLE DE IMPARTIR EL ENTRENAMIENTO | E10: FECHA / HORA | F10: FIRMA RESPONSABLE DE IMPARTIR EL ENTRENAMIENTO
A11: Rutas de Recolección de residuos organicos e inorgánicos y cuidados en vias publicas y carro recolector | B11: Tiempo Personal | C11: 16 horas | D11: Operario de Recolección
A12: Manejo y Operación del Relleno Sanitario: Recorrido, Uso de EPP | B12: Tiempo Personal | C12: 2 horas | D12: Operario de Recolección
A13: Manejo y Operación del Relleno Sanitario: Recorrido, Uso de EPP | B13: Tiempo Personal | C13: 16 horas | D13: Operario de Recolección
A14: Limpieza de Cunetas y/o desagues | B14: Tiempo Personal | C14: 1 hora | D14: Operario de Recolección
A15: Conformación de Chimeneas | B15: Tiempo Personal | C15: 16 horas | D15: Operario de Recolección
A16: Mantenimiento de la Vía de Entrada con sus respectivos desagues | B16: Tiempo Personal | C16: 1 hora | D16: Operario de Recolección
A17: Separación de Material Organico, conformación de pilas, apiques a las pilas. | B17: Tiempo Personal | C17: 2 Horas | D17: Operario de Recolección
A18: Manejo de la Planta de lixiviados | B18: Tiempo Personal | C18: 1 hora | D18: Operario de Recolección
A19: Rutas de Recolección organicos e inorgánicos donde no ingresa el vehículo | B19: Tiempo Personal | C19: 8 horas | D19: Operario de Recolección
A20: Precauciones de Manipulacion de Residuos Solidos | B20: Tiempo Personal | C20: 8 horas | D20: Operario de Recolección
A21: Manejo de Cajas Estacionarias | B21: Tiempo Personal | C21: 8 horas | D21: Operario de Recolección
A22: Mantenimiento de la lona | B22: Tiempo Personal | C22: 1 Horas | D22: Operario de Recolección
A23: (1) Los programas de entrenamiento tienen una duración máxima de 2 meses. Las horas asignadas a cada tema podrían ser modificadas de acuerdo con énfasis específicos que se quieran hacer.
A25: OBSERVACIONES DEL LÍDER INMEDIATO SOBRE EL ENTRENAMIENTO
A34: NOMBRE DEL LIDER INMEDIATO | B34: COLABORADOR | D34: FECHA

Sheet JEISON ALBERTO ALVAREZ
B1: PROGRAMA DE ENTRENAMIENTO CODIGO 91 VERSION 2
A7: COLABORADOR | B7: CARGO | D7: PROCESO | F7: FECHA DE INGRESO
A8: JEISON ALBERTO ALVAREZ OROZCO | B8: Operario de recoleccion | D8: Aseo | F8: 18 de Febrero 2026
A10: TEMA A ENTRENAR | B10: RECURSOS | C10: TIEMPO(1) (horas) | D10: RESPONSABLE DE IMPARTIR EL ENTRENAMIENTO | E10: FECHA / HORA | F10: FIRMA RESPONSABLE DE IMPARTIR EL ENTRENAMIENTO
A11: Rutas de Recolección de residuos organicos e inorgánicos y cuidados en vias publicas y carro recolector | B11: Tiempo Personal | C11: 16 horas | D11: Operario de Recolección
A12: Manejo y Operación del Relleno Sanitario: Recorrido, Uso de EPP | B12: Tiempo Personal | C12: 2 horas | D12: Operario de Recolección
A13: Manejo y Operación del Relleno Sanitario: Recorrido, Uso de EPP | B13: Tiempo Personal | C13: 16 horas | D13: Operario de Recolección
A14: Limpieza de Cunetas y/o desagues | B14: Tiempo Personal | C14: 1 hora | D14: Operario de Recolección
A15: Conformación de Chimeneas | B15: Tiempo Personal | C15: 16 horas | D15: Operario de Recolección
A16: Mantenimiento de la Vía de Entrada con sus respectivos desagues | B16: Tiempo Personal | C16: 1 hora | D16: Operario de Recolección
A17: Separación de Material Organico, conformación de pilas, apiques a las pilas. | B17: Tiempo Personal | C17: 2 Horas | D17: Operario de Recolección
A18: Manejo de la Planta de lixiviados | B18: Tiempo Personal | C18: 1 hora | D18: Operario de Recolección
A19: Rutas de Recolección organicos e inorgánicos donde no ingresa el vehículo | B19: Tiempo Personal | C19: 8 horas | D19: Operario de Recolección
A20: Precauciones de Manipulacion de Residuos Solidos | B20: Tiempo Personal | C20: 8 horas | D20: Operario de Recolección
A21: Manejo de Cajas Estacionarias | B21: Tiempo Personal | C21: 8 horas | D21: Operario de Recolección
A22: Mantenimiento de la lona | B22: Tiempo Personal | C22: 1 Horas | D22: Operario de Recolección
A23: (1) Los programas de entrenamiento tienen una duración máxima de 2 meses. Las horas asignadas a cada tema podrían ser modificadas de acuerdo con énfasis específicos que se quieran hacer.
A25: OBSERVACIONES DEL LÍDER INMEDIATO SOBRE EL ENTRENAMIENTO
A34: NOMBRE DEL LIDER INMEDIATO | B34: COLABORADOR | D34: FECHA

Sheet JHON HENRY CASTAÑEDA 
B1: PROGRAMA DE ENTRENAMIENTO CODIGO 91 VERSION 2
A7: COLABORADOR | B7: CARGO | D7: PROCESO | F7: FECHA DE INGRESO
A8: JOHN HENRY CASTAÑEDA | B8: Operario de recoleccion | D8: Aseo | F8: 06 de Febrero 2026
A10: TEMA A ENTRENAR | B10: RECURSOS | C10: TIEMPO(1) (horas) | D10: RESPONSABLE DE IMPARTIR EL ENTRENAMIENTO | E10: FECHA / HORA | F10: FIRMA RESPONSABLE DE IMPARTIR EL ENTRENAMIENTO
A11: Rutas de Recolección de residuos organicos e inorgánicos y cuidados en vias publicas y carro recolector | B11: Tiempo Personal | C11: 16 horas | D11: Operario de Recolección
A12: Manejo y Operación del Relleno Sanitario: Recorrido, Uso de EPP | B12: Tiempo Personal | C12: 2 horas | D12: Operario de Recolección
A13: Manejo y Operación del Relleno Sanitario: Recorrido, Uso de EPP | B13: Tiempo Personal | C13: 16 horas | D13: Operario de Recolección
A14: Limpieza de Cunetas y/o desagues | B14: Tiempo Personal | C14: 1 hora | D14: Operario de Recolección
A15: Conformación de Chimeneas | B15: Tiempo Personal | C15: 16 horas | D15: Operario de Recolección
A16: Mantenimiento de la Vía de Entrada con sus respectivos desagues | B16: Tiempo Personal | C16: 1 hora | D16: Operario de Recolección
A17: Separación de Material Organico, conformación de pilas, apiques a las pilas. | B17: Tiempo Personal | C17: 2 Horas | D17: Operario de Recolección
A18: Manejo de la Planta de lixiviados | B18: Tiempo Personal | C18: 1 hora | D18: Operario de Recolección
A19: Rutas de Recolección organicos e inorgánicos donde no ingresa el vehículo | B19: Tiempo Personal | C19: 8 horas | D19: Operario de Recolección
A20: Precauciones de Manipulacion de Residuos Solidos | B20: Tiempo Personal | C20: 8 horas | D20: Operario de Recolección
A21: Manejo de Cajas Estacionarias | B21: Tiempo Personal | C21: 8 horas | D21: Operario de Recolección
A22: Mantenimiento de la lona | B22: Tiempo Personal | C22: 1 Horas | D22: Operario de Recolección
A23: (1) Los programas de entrenamiento tienen una duración máxima de 2 meses. Las horas asignadas a cada tema podrían ser modificadas de acuerdo con énfasis específicos que se quieran hacer.
A25: OBSERVACIONES DEL LÍDER INMEDIATO SOBRE EL ENTRENAMIENTO
A34: NOMBRE DEL LIDER INMEDIATO | B34: COLABORADOR | D34: FECHA

Sheet DANIEL RESTREPO ALZATE 
B1: PROGRAMA DE ENTRENAMIENTO | F1: Código: F73 Versión: 1
A7: COLABORADOR | B7: CARGO | D7: PROCESO | F7: FECHA DE INGRESO
A8: DANIEL RESTREPO ALZATE | B8: COORDINADOR DE ASEO | D8: ASEO | F8: FEBRERO 03 DE 2026
A10: TEMA A ENTRENAR | B10: RECURSOS | C10: TIEMPO (1) (horas) | D10: RESPONSABLE DE IMPARTIR EL ENTRENAMIENTO | E10: FECHA / HORA | F10: FIRMA RESPONSABLE DE IMPARTIR EL ENTRENAMIENTO
A11: Contratación y Supervisión: Elaboración de Estudios previos, contratacion estatal, supervisión de contratos | B11: Tiempo Personal | C11: 10 Horas | D11: Director Aseo
A12: Manejo de las herramientas del sistema de Gestión Integral: Indicadores, Matriz ACPM, Matriz de Riesgos, Procedimientos e instructivos del Área | B12: Tiempo Personal | C12: 10 horas | D12: Director Aseo
A13: Identificación y reconocimiento de sistemas operativos: Barrido, recolección y Transporte y Relleno Sanitario | B13: Tiempo Personal | C13: 10 horas | D13: Supervisor Barrido, Relleno sanitario y Conductores
A14: Manejo de las herramientas del sistema de gestion integral , indicadoires de matriz acpm , matriz de riesgos y procedemientos e intructivos del area | B14: Tiempo Personal | C14: 3 horas | D14: Cordinador SGI
A15: Reconocimiento de contratos en ejecución objeto de supervisión por parte de la dirección de Aseo | B15: Tiempo Personal | C15: 16 horas | D15: Director Aseo y Supervisores barrido, relleno y conductores
A16: Seguridad y Salud en el Trabajo | B16: Tiempo Personal | C16: 8 horas | D16: coordinadora de SST
A17: Sistema de Gestión Ambiental ESPA (Estado de Licencias y permisos Ambientales) | B17: Tiempo Personal | C17: 8 horas | D17: Director Aseo
A18: Aforos grandes generadores | B18: Tiempo Personal | C18: 8 horas | D18: Director Aseo
A19: Normatividad del Area de Aseo y programa PEGIRS | B19: Tiempo Personal | C19: 10 horas | D19: Asistente MIRS
A20: Plan estratégico de Seguridad Vial PESV | B20: Tiempo Personal | C20: 10 horas | D20: coordinadora de SST | H20: 38
A23: OBSERVACIONES DEL LÍDER INMEDIATO SOBRE EL ENTRENAMIENTO
A28: NOMBRE DEL LIDER INMEDIATO | B28: NOMBRE DEL COLABORADOR | D28: FECHA

Sheet  JHON ALEXANDER ARISTIZABAL  
B1: PROGRAMA DE ENTRENAMIENTO CODIGO 91 VERSION 2
A7: COLABORADOR | B7: CARGO | D7: PROCESO | F7: FECHA DE INGRESO
A8: JHON ALEXANDER ARISTIZABAL | B8: Operario de barrido | D8: Aseo | F8: 27 de Enero 2026
A10: TEMA A ENTRENAR | B10: RECURSOS | C10: TIEMPO(1) (horas) | D10: RESPONSABLE DE IMPARTIR EL ENTRENAMIENTO | E10: FECHA / HORA | F10: FIRMA RESPONSABLE DE IMPARTIR EL ENTRENAMIENTO
A11: Reconocimiento de Rutas de barrido existentes en el Municipio: Barrido de Calles, Limpeza de cunetas, sumideros, tinacos, andenes, zonas verdes, desyerbe de vías, limpieza de lotes publicos, | B11: Tiempo Personal | C11: 10 Horas | D11: Supervisor de barrido
A12: Lavado de areas publicas y limpieza de zonas rivereñas de quebradas | B12: Tiempo Personal | C12: 3 horas | D12: Contratista SGI
A13: Manejo de Herramientas | B13: Tiempo Personal | C13: 1 hora | D13: Operario de de barrido
A14: Mantenimiento de Jardineras | B14: Tiempo Personal | C14: 1 hora | D14: Director Aseo - Contratista apoyo SST.
A15: Mantenimiento de Tinacos: Reparación, o lavado | B15: Tiempo Personal | C15: 1 hora | D15: Operario de barrido
A16: Atencion servicio calle peatonal, parque principal y malecom | B16: Tiempo Personal | C16: 2 horas | D16: Director Administrativo
A17: Apoyo servicio de guadañaje | B17: Tiempo Personal | C17: 4 horas | D17: Operario de barrido
A18: Cumplimiento de las normas de seguridad, higiene corporal y uso de los EPP. | B18: Tiempo Personal | C18: 6 horas | D18: SST
A19: (1) Los programas de entrenamiento tienen una duración máxima de 2 meses. Las horas asignadas a cada tema podrían ser modificadas de acuerdo con énfasis específicos que se quieran hacer.
A21: OBSERVACIONES DEL LÍDER INMEDIATO SOBRE EL ENTRENAMIENTO
A30: NOMBRE DEL LIDER INMEDIATO | B30: COLABORADOR | D30: FECHA

Sheet FLORDELIS QUINTANA MADERA
B1: PROGRAMA DE ENTRENAMIENTO CODIGO 91 VERSION 2
A7: COLABORADOR | B7: CARGO | D7: PROCESO | F7: FECHA DE INGRESO
A8: FLORDELIS QUINTANA MADERA | B8: Operaria de barrido | D8: Aseo | F8: 26 de Enero 2026
A10: TEMA A ENTRENAR | B10: RECURSOS | C10: TIEMPO(1) (horas) | D10: RESPONSABLE DE IMPARTIR EL ENTRENAMIENTO | E10: FECHA / HORA | F10: FIRMA RESPONSABLE DE IMPARTIR EL ENTRENAMIENTO
A11: Reconocimiento de Rutas de barrido existentes en el Municipio: Barrido de Calles, Limpeza de cunetas, sumideros, tinacos, andenes, zonas verdes, desyerbe de vías, limpieza de lotes publicos, | B11: Tiempo Personal | C11: 10 Horas | D11: Supervisor de barrido
A12: Lavado de areas publicas y limpieza de zonas rivereñas de quebradas | B12: Tiempo Personal | C12: 3 horas | D12: Contratista SGI
A13: Manejo de Herramientas | B13: Tiempo Personal | C13: 1 hora | D13: Operario de de barrido
A14: Mantenimiento de Jardineras | B14: Tiempo Personal | C14: 1 hora | D14: Director Aseo - Contratista apoyo SST.
A15: Mantenimiento de Tinacos: Reparación, o lavado | B15: Tiempo Personal | C15: 1 hora | D15: Operario de barrido
A16: Atencion servicio calle peatonal, parque principal y malecom | B16: Tiempo Personal | C16: 2 horas | D16: Director Administrativo
A17: Apoyo servicio de guadañaje | B17: Tiempo Personal | C17: 4 horas | D17: Operario de barrido
A18: Cumplimiento de las normas de seguridad, higiene corporal y uso de los EPP. | B18: Tiempo Personal | C18: 6 horas | D18: SST
A19: (1) Los programas de entrenamiento tienen una duración máxima de 2 meses. Las horas asignadas a cada tema podrían ser modificadas de acuerdo con énfasis específicos que se quieran hacer.
A21: OBSERVACIONES DEL LÍDER INMEDIATO SOBRE EL ENTRENAMIENTO
A30: NOMBRE DEL LIDER INMEDIATO | B30: COLABORADOR | D30: FECHA

Sheet LINA MARIA  CASTAÑO MONTOYA 
B1: PROGRAMA DE ENTRENAMIENTO CODIGO 91 VERSION 2
A7: COLABORADOR | B7: CARGO | D7: PROCESO | F7: FECHA DE INGRESO
A8: LINA MARIA CASTAÑO MONTOYA | B8: ACESORIA JURIDICA | D8: ADMINISTRATIVA | F8: 7 de Noviembre 2025
A10: TEMA A ENTRENAR | B10: RECURSOS | C10: TIEMPO(1) (horas) | D10: RESPONSABLE DE IMPARTIR EL ENTRENAMIENTO | E10: FECHA / HORA | F10: FIRMA RESPONSABLE DE IMPARTIR EL ENTRENAMIENTO
A11: Fundamentos del Derecho Aplicado | B11: Tiempo Personal | C11: 10 Horas | D11: Director administrativo
A12: Manejo de las herramientas del sistema de gestion integral , indicadoires de matriz acpm , matriz de riesgos y procedemientos e intructivos del area | B12: Tiempo Personal | C12: 3 horas | D12: Cordinador SGI
A13: Interpretación y Análisis Jurídico | B13: Tiempo Personal | C13: 2 hora | D13: Director administrativo
A14: Asesoría Jurídica en la Práctica | B14: Tiempo Personal | C14: 2 hora | D14: Director administrativo
A15: Ética Profesional | B15: Tiempo Personal | C15: 1 hora | D15: Director administrativo
A16: Tecnologías para el Trabajo Jurídico | B16: Tiempo Personal | C16: 2 horas | D16: Contratista sistemas
A17: Cumplimiento de las normas de seguridad, higiene corporal y uso de los EPP. | B17: Tiempo Personal | C17: 6 horas | D17: SST
A18: (1) Los programas de entrenamiento tienen una duración máxima de 2 meses. Las horas asignadas a cada tema podrían ser modificadas de acuerdo con énfasis específicos que se quieran hacer.
A20: OBSERVACIONES DEL LÍDER INMEDIATO SOBRE EL ENTRENAMIENTO
A29: NOMBRE DEL LIDER INMEDIATO | B29: COLABORADOR | D29: FECHA

Sheet UBYELY GOMEZ
B1: PROGRAMA DE ENTRENAMIENTO CODIGO 91 VERSION 2
A7: COLABORADOR | B7: CARGO | D7: PROCESO | F7: FECHA DE INGRESO
A8: ubiely gomez jimenez | B8: Operaria de barrido | D8: Aseo | F8: 1 de Octubre 2025
A10: TEMA A ENTRENAR | B10: RECURSOS | C10: TIEMPO(1) (horas) | D10: RESPONSABLE DE IMPARTIR EL ENTRENAMIENTO | E10: FECHA / HORA | F10: FIRMA RESPONSABLE DE IMPARTIR EL ENTRENAMIENTO
A11: Reconocimiento de Rutas de barrido existentes en el Municipio: Barrido de Calles, Limpeza de cunetas, sumideros, tinacos, andenes, zonas verdes, desyerbe de vías, limpieza de lotes publicos, | B11: Tiempo Personal | C11: 10 Horas | D11: Supervisor de barrido
A12: Lavado de areas publicas y limpieza de zonas rivereñas de quebradas | B12: Tiempo Personal | C12: 3 horas | D12: Contratista SGI
A13: Manejo de Herramientas | B13: Tiempo Personal | C13: 1 hora | D13: Operario de de barrido
A14: Mantenimiento de Jardineras | B14: Tiempo Personal | C14: 1 hora | D14: Director Aseo - Contratista apoyo SST.
A15: Mantenimiento de Tinacos: Reparación, o lavado | B15: Tiempo Personal | C15: 1 hora | D15: Operario de barrido
A16: Atencion servicio calle peatonal, parque principal y malecom | B16: Tiempo Personal | C16: 2 horas | D16: Director Administrativo
A17: Apoyo servicio de guadañaje | B17: Tiempo Personal | C17: 4 horas | D17: Operario de barrido
A18: Cumplimiento de las normas de seguridad, higiene corporal y uso de los EPP. | B18: Tiempo Personal | C18: 6 horas | D18: Director Administrativo
A19: (1) Los programas de entrenamiento tienen una duración máxima de 2 meses. Las horas asignadas a cada tema podrían ser modificadas de acuerdo con énfasis específicos que se quieran hacer.
A21: OBSERVACIONES DEL LÍDER INMEDIATO SOBRE EL ENTRENAMIENTO
A30: NOMBRE DEL LIDER INMEDIATO | B30: COLABORADOR | D30: FECHA

Sheet LINA PATRICIA GOMEZ VALENCIA
A1: PROGRAMA DE ENTRENAMIENTO | F1: Código: 91 Versión: 2
A7: CARGO | D7: PROCESO | F7: FECHA DE INGRESO
A8: TESORERA | D8: ADMINISTRATIVO | F8: JUNIO 04 DE 2025
A9: FUNCIONARIO | C9: Lina Patricia Gomez Valencia
A11: TEMA A ENTRENAR | E11: FECHA / HORA | F11: FIRMA RESPONSABLE DE IMPARTIR EL ENTRENAMIENTO
A12: Inducción al rol de tesorera(Manual de funciones, código de ética) | B12: Tiempo Personal | C12: 8 horas | D12: Directora Administrativa Coordinadora de gestion humana
A13: Ciclo contable y registro de operaciones | B13: Tiempo Personal | C13: 8 horas | D13: directora financiera, asistente finaciera
A14: Manejo de las herramientas del sistema de Gestión Integral: Indicadores, Matriz ACPM, Matriz de Riesgos, Procedimientos e instructivos del Área | B14: Tiempo Personal | C14: 4 Horas | D14: Coordinadora SGI
A15: Ciclo contable y registro de operaciones | B15: Tiempo Personal | C15: 6 horas | D15: directora financiera, asistente finaciera
A16: Manejo del presupuesto | B16: Tiempo Personal | C16: 10 horas | D16: directora financiera, asistente finaciera
A17: Normas legales (locales y nacionales) | B17: Tiempo personal | C17: 4 Horas | D17: directora financiera,
A18: Manejo del Software SAIMYR | B18: Tiempo personal | C18: 6 horas | D18: directora financiera,
A19: Seguridad y salud en el trabajo | B19: Tiempo Personal | C19: 2 horas | D19: Coordinador SST
A20: Reporte a entedidades de control | B20: Tiempo Personal | C20: 6 horas | D20: directora financiera
A23: NOMBRE DEL COLABORADOR | D23: FECHA

Sheet YUBER  DUQUE  AGUIRRE 
B1: PROGRAMA DE ENTRENAMIENTO CODIGO 91 VERSION 2
A7: COLABORADOR | B7: CARGO | D7: PROCESO | F7: FECHA DE INGRESO
A8: YUBER ALEXANDER DUQUQE AGUIRRE | B8: Operario de planta de organicos | D8: Aseo | F8: 09 de abril 2024
A10: TEMA A ENTRENAR | B10: RECURSOS | C10: TIEMPO(1) (horas) | D10: RESPONSABLE DE IMPARTIR EL ENTRENAMIENTO | E10: FECHA / HORA | F10: FIRMA RESPONSABLE DE IMPARTIR EL ENTRENAMIENTO
A11: Manejo de Compactador en plataforma y en planta de Orgánicos | B11: Tiempo Personal | C11: 1 HORA | D11: Operario Planta de Orgánicos y supervisor relleno
A12: Separación de Material Organico | B12: Tiempo Personal | C12: 2 HORAS | D12: Operario Planta de Orgánicos y supervisor relleno
A13: Conformacion de Pilas | B13: Tiempo Personal | C13: 2 HORAS | D13: Operario Planta de Orgánicos
A14: Apiques de aireación | B14: Tiempo Personal | C14: 2HORAS | D14: Operario Planta de Orgánicos
A15: Mantenimiento relleno | B15: Tiempo Personal | C15: 4 HORAS | D15: Supervisor relleno
A16: Mantenimiento planta lixiviados | B16: Tiempo Personal | C16: 2 HORAS | D16: Supervisor relleno
A17: (1) Los programas de entrenamiento tienen una duración máxima de 2 meses. Las horas asignadas a cada tema podrían ser modificadas de acuerdo con énfasis específicos que se quieran hacer.
A19: OBSERVACIONES DEL LÍDER INMEDIATO SOBRE EL ENTRENAMIENTO
A28: NOMBRE DEL LIDER INMEDIATO | B28: COLABORADOR | D28: FECHA

Sheet DIEGO MARIN 
B1: PROGRAMA DE ENTRENAMIENTO CODIGO 91 VERSION 2
A7: COLABORADOR | B7: CARGO | D7: PROCESO | F7: FECHA DE INGRESO
A8: DIEGO ALEXANDER MARIN CIRO | B8: Operario de planta de organicos | D8: Aseo | F8: 04 de abril 2024
A10: TEMA A ENTRENAR | B10: RECURSOS | C10: TIEMPO(1) (horas) | D10: RESPONSABLE DE IMPARTIR EL ENTRENAMIENTO | E10: FECHA / HORA | F10: FIRMA RESPONSABLE DE IMPARTIR EL ENTRENAMIENTO
A11: Manejo de Compactador en plataforma y en planta de Orgánicos | B11: Tiempo Personal | C11: 1 HORA | D11: Operario Planta de Orgánicos y supervisor relleno
A12: Separación de Material Organico | B12: Tiempo Personal | C12: 2 HORAS | D12: Operario Planta de Orgánicos y supervisor relleno
A13: Conformacion de Pilas | B13: Tiempo Personal | C13: 2 HORAS | D13: Operario Planta de Orgánicos
A14: Apiques de aireación | B14: Tiempo Personal | C14: 2HORAS | D14: Operario Planta de Orgánicos
A15: Mantenimiento relleno | B15: Tiempo Personal | C15: 4 HORAS | D15: Supervisor relleno
A16: Mantenimiento planta lixiviados | B16: Tiempo Personal | C16: 2 HORAS | D16: Supervisor relleno
A17: (1) Los programas de entrenamiento tienen una duración máxima de 2 meses. Las horas asignadas a cada tema podrían ser modificadas de acuerdo con énfasis específicos que se quieran hacer.
A19: OBSERVACIONES DEL LÍDER INMEDIATO SOBRE EL ENTRENAMIENTO
A28: NOMBRE DEL LIDER INMEDIATO | B28: COLABORADOR | D28: FECHA

Sheet PAOLA ANDREA OSORIO
B1: PROGRAMA DE ENTRENAMIENTO CODIGO 91 VERSION 2
A7: COLABORADOR | B7: CARGO | D7: PROCESO | F7: FECHA DE INGRESO
A8: PAOLA ANDREA OSORIO | B8: Operaria lectora | D8: COMERCIAL | F8: 04 de abril 2024
A10: TEMA A ENTRENAR | B10: RECURSOS | C10: TIEMPO(1) (horas) | D10: RESPONSABLE DE IMPARTIR EL ENTRENAMIENTO | E10: FECHA / HORA | F10: FIRMA RESPONSABLE DE IMPARTIR EL ENTRENAMIENTO
A11: Rutas de Lectura y entrega de facturas en campo por todo el Municipio | B11: Tiempo Personal | C11: 40 horas | D11: Operaria Lectora Asistente Comercial
A12: Manejo de la Tablet o el Celu Web | B12: Celuweb, Tiempo Personal | C12: 12 horas | D12: Operaria Lectora
A13: Lectura de Medidores | B13: Celuweb, Tiempo Personal | C13: 20 horas | D13: Operaria Lectora
A14: Manejo de Codigos | B14: Tiempo Personal | C14: 20 horas | D14: Operaria Lectora y Auxiliar Comercial
A15: Cambios de Medidores | B15: Tiempo Personal | C15: 40 horas | D15: Operaria Lectora
A16: Suspensiones y Reinstalaciones | B16: Tiempo Personal | C16: 50 horas | D16: Operaria Lectora y Asistente comercial
A17: Críticas Aleatorias altos y bajos consumos, medidores frenados, casas solas | B17: Tiempo Personal | C17: 40 horas | D17: Operaria Lectora y Asistente comercial
A18: Revisiones Previas: Por debido proceso | B18: Tiempo Personal | C18: 40 horas | D18: Operaria Lectora y Auxiliar Comercial
A19: (1) Los programas de entrenamiento tienen una duración máxima de 2 meses. Las horas asignadas a cada tema podrían ser modificadas de acuerdo con énfasis específicos que se quieran hacer.
A21: OBSERVACIONES DEL LÍDER INMEDIATO SOBRE EL ENTRENAMIENTO
A30: NOMBRE DEL LIDER INMEDIATO | B30: COLABORADOR | D30: FECHA

Sheet CLAUDIA  PATRICIA GIRALDO 
B1: PROGRAMA DE ENTRENAMIENTO CODIGO 91 VERSION 2
A7: COLABORADOR | B7: CARGO | D7: PROCESO | F7: FECHA DE INGRESO
A8: Claudia patricia giraldo | B8: Operaria de barrido | D8: Aseo | F8: 18 de Marzo 2024
A10: TEMA A ENTRENAR | B10: RECURSOS | C10: TIEMPO(1) (horas) | D10: RESPONSABLE DE IMPARTIR EL ENTRENAMIENTO | E10: FECHA / HORA | F10: FIRMA RESPONSABLE DE IMPARTIR EL ENTRENAMIENTO
A11: Reconocimiento de Rutas de barrido existentes en el Municipio: Barrido de Calles, Limpeza de cunetas, sumideros, tinacos, andenes, zonas verdes, desyerbe de vías, limpieza de lotes publicos, | B11: Tiempo Personal | C11: 10 Horas | D11: Supervisor de barrido
A12: Lavado de areas publicas y limpieza de zonas rivereñas de quebradas | B12: Tiempo Personal | C12: 3 horas | D12: Contratista SGI
A13: Manejo de Herramientas | B13: Tiempo Personal | C13: 1 hora | D13: Operario de de barrido
A14: Mantenimiento de Jardineras | B14: Tiempo Personal | C14: 1 hora | D14: Director Aseo - Contratista apoyo SST.
A15: Mantenimiento de Tinacos: Reparación, o lavado | B15: Tiempo Personal | C15: 1 hora | D15: Operario de barrido
A16: Atencion servicio calle peatonal, parque principal y malecom | B16: Tiempo Personal | C16: 2 horas | D16: Director Administrativo
A17: Apoyo servicio de guadañaje | B17: Tiempo Personal | C17: 4 horas | D17: Operario de barrido
A18: Cumplimiento de las normas de seguridad, higiene corporal y uso de los EPP. | B18: Tiempo Personal | C18: 6 horas | D18: Director Administrativo
A19: (1) Los programas de entrenamiento tienen una duración máxima de 2 meses. Las horas asignadas a cada tema podrían ser modificadas de acuerdo con énfasis específicos que se quieran hacer.
A21: OBSERVACIONES DEL LÍDER INMEDIATO SOBRE EL ENTRENAMIENTO
A30: NOMBRE DEL LIDER INMEDIATO | B30: COLABORADOR | D30: FECHA

Sheet CESAR AUGUSTO GIRALDO  
B1: PROGRAMA DE ENTRENAMIENTO CODIGO 91 VERSION 2
A7: COLABORADOR | B7: CARGO | D7: PROCESO | F7: FECHA DE INGRESO
A8: Cesar Augusto Giraldo Giraldo | B8: Operario de recoleccion | D8: Aseo | F8: 13 de marzo 2025
A10: TEMA A ENTRENAR | B10: RECURSOS | C10: TIEMPO(1) (horas) | D10: RESPONSABLE DE IMPARTIR EL ENTRENAMIENTO | E10: FECHA / HORA | F10: FIRMA RESPONSABLE DE IMPARTIR EL ENTRENAMIENTO
A11: Rutas de Recolección de residuos organicos e inorgánicos y cuidados en vias publicas y carro recolector | B11: Tiempo Personal | C11: 16 horas | D11: Operario de Recolección
A12: Manejo y Operación del Relleno Sanitario: Recorrido, Uso de EPP | B12: Tiempo Personal | C12: 2 horas | D12: Operario de Recolección
A13: Manejo y Operación del Relleno Sanitario: Recorrido, Uso de EPP | B13: Tiempo Personal | C13: 16 horas | D13: Operario de Recolección
A14: Limpieza de Cunetas y/o desagues | B14: Tiempo Personal | C14: 1 hora | D14: Operario de Recolección
A15: Conformación de Chimeneas | B15: Tiempo Personal | C15: 16 horas | D15: Operario de Recolección
A16: Mantenimiento de la Vía de Entrada con sus respectivos desagues | B16: Tiempo Personal | C16: 1 hora | D16: Operario de Recolección
A17: Separación de Material Organico, conformación de pilas, apiques a las pilas. | B17: Tiempo Personal | C17: 2 Horas | D17: Operario de Recolección
A18: Manejo de la Planta de lixiviados | B18: Tiempo Personal | C18: 1 hora | D18: Operario de Recolección
A19: Rutas de Recolección organicos e inorgánicos donde no ingresa el vehículo | B19: Tiempo Personal | C19: 8 horas | D19: Operario de Recolección
A20: Precauciones de Manipulacion de Residuos Solidos | B20: Tiempo Personal | C20: 8 horas | D20: Operario de Recolección
A21: Manejo de Cajas Estacionarias | B21: Tiempo Personal | C21: 8 horas | D21: Operario de Recolección
A22: Mantenimiento de la lona | B22: Tiempo Personal | C22: 1 Horas | D22: Operario de Recolección
A23: (1) Los programas de entrenamiento tienen una duración máxima de 2 meses. Las horas asignadas a cada tema podrían ser modificadas de acuerdo con énfasis específicos que se quieran hacer.
A25: OBSERVACIONES DEL LÍDER INMEDIATO SOBRE EL ENTRENAMIENTO
A34: NOMBRE DEL LIDER INMEDIATO | B34: COLABORADOR | D34: FECHA
B40: &

Sheet JESUS  ANDRES  RIVERA 
B1: PROGRAMA DE ENTRENAMIENTO CODIGO 91 VERSION 2
A7: COLABORADOR | B7: CARGO | D7: PROCESO | F7: FECHA DE INGRESO
A8: JESUS ANDRES RIVERA | B8: OPERARIO DE RECOLECCION | D8: ASEO | F8: 45729
A10: TEMA A ENTRENAR | B10: RECURSOS | C10: TIEMPO(1) (horas) | D10: RESPONSABLE DE IMPARTIR EL ENTRENAMIENTO | E10: FECHA / HORA | F10: FIRMA RESPONSABLE DE IMPARTIR EL ENTRENAMIENTO
A11: Rutas de Recolección de residuos organicos e inorgánicos y cuidados en vias publicas y carro recolector | B11: Tiempo Personal | C11: 16 horas | D11: Operario de Recolección
A12: Manejo y Operación del Relleno Sanitario: Recorrido, Uso de EPP | B12: Tiempo Personal | C12: 2 horas | D12: Operario de Recolección
A13: Manejo y Operación del Relleno Sanitario: Recorrido, Uso de EPP | B13: Tiempo Personal | C13: 16 horas | D13: Operario de Recolección
A14: Limpieza de Cunetas y/o desagues | B14: Tiempo Personal | C14: 1 hora | D14: Operario de Recolección
A15: Conformación de Chimeneas | B15: Tiempo Personal | C15: 16 horas | D15: Operario de Recolección
A16: Mantenimiento de la Vía de Entrada con sus respectivos desagues | B16: Tiempo Personal | C16: 1 hora | D16: Operario de Recolección
A17: Separación de Material Organico, conformación de pilas, apiques a las pilas. | B17: Tiempo Personal | C17: 2 Horas | D17: Operario de Recolección
A18: Manejo de la Planta de lixiviados | B18: Tiempo Personal | C18: 1 hora | D18: Operario de Recolección
A19: Rutas de Recolección organicos e inorgánicos donde no ingresa el vehículo | B19: Tiempo Personal | C19: 8 horas | D19: Operario de Recolección
A20: Precauciones de Manipulacion de Residuos Solidos | B20: Tiempo Personal | C20: 8 horas | D20: Operario de Recolección
A21: Manejo de Cajas Estacionarias | B21: Tiempo Personal | C21: 8 horas | D21: Operario de Recolección
A22: Mantenimiento de la lona | B22: Tiempo Personal | C22: 1 Horas | D22: Operario de Recolección
A23: (1) Los programas de entrenamiento tienen una duración máxima de 2 meses. Las horas asignadas a cada tema podrían ser modificadas de acuerdo con énfasis específicos que se quieran hacer.
A25: OBSERVACIONES DEL LÍDER INMEDIATO SOBRE EL ENTRENAMIENTO
A34: NOMBRE DEL LIDER INMEDIATO | B34: COLABORADOR | D34: FECHA

Sheet NELSON  CARDONA ZULUAGA 
B1: PROGRAMA DE ENTRENAMIENTO CODIGO 91 VERSION 2
A7: COLABORADOR | B7: CARGO | D7: PROCESO | F7: FECHA DE INGRESO
A8: NELSON DE JESUS CARDONA ZULUAGA | B8: OFICIAL DE SEGUNDA | D8: ASEO | F8: 45713
A10: TEMA A ENTRENAR | B10: RECURSOS | C10: TIEMPO(1) (horas) | D10: RESPONSABLE DE IMPARTIR EL ENTRENAMIENTO | E10: FECHA / HORA | F10: FIRMA RESPONSABLE DE IMPARTIR EL ENTRENAMIENTO
A11: Instalaciones Nuevas: Solicitud al usuario de Materiales Apertura de brecha Instalacion de Tubería y Medidor Verificacion de Funcionamiento Apertura de valvulas para revisión | B11: Herramientas, y Equipos Tiempo Personal | C11: 1 hora
A12: Cortes, Suspensiones y Reconexiones: Suspensión del servicio Extraccion de Medidor y tapón de Tubería Retiro de Tapón y Verificacion de Funcionamiento | B12: Herramientas, y Equipos Tiempo Personal | C12: 2 Horas
A13: Daños u Obstrucción de alcantarillado: Revision de MHs Si hay Obstruccion: Uso de Tira buzon, varillas o bactor Si es daño: Excavación y enmienda del tubo averiado o cambio. Verificación Tapado de Excavación | B13: Herramientas, y Equipos Tiempo Personal | C13: 8 horas
A14: Daños de Acueducto: Medidores Redes Principales Domiciliarias | B14: Herramientas, y Equipos Tiempo Personal | C14: 16 horas
A15: Mantenimiento de Hidrantes: Apertura y Cierre para evitar golpe de ariete y fugas | B15: Herramientas, y Equipos Tiempo Personal | C15: 3 horas
A16: Inspección Mantenimiento a Cajas de Valvulas: Limpieza por sedimientación | B16: Herramientas, y Equipos Tiempo Personal | C16: 1 hora
A17: Mantenimiento a Cajas de Inspección aguas Negras: Destape, Ingreso y limpieza de Arenas | B17: Herramientas, y Equipos Tiempo Personal | C17: 2 Horas
A18: Pictometria: Pruebas de presion en las redes, Manejo de manometro, revisión de Cajas de Muestreo | B18: Herramientas, y Equipos Tiempo Personal | C18: 0.5 horas
A19: Limpieza de Aliviaderos: Sacar sedimentos de 5 aliviaderos, según temporada de lluvias | B19: Herramientas, y Equipos Tiempo Personal | C19: 3 horas
A20: Expansión de Redes de Acueducto: Instalación de Tuberias y Futuras de Acueducto, Verificacion de Funcionamiento y Ajuste | B20: Herramientas, y Equipos Tiempo Personal | C20: 24 Horas
A21: (1) Los programas de entrenamiento tienen una duración máxima de 2 meses. Las horas asignadas a cada tema podrían ser modificadas de acuerdo con énfasis específicos que se quieran hacer.
A23: OBSERVACIONES DEL LÍDER INMEDIATO SOBRE EL ENTRENAMIENTO
A32: NOMBRE DEL LIDER INMEDIATO | B32: COLABORADOR | D32: FECHA

Sheet TOMAS  MONTIEL 
B1: PROGRAMA DE ENTRENAMIENTO CODIGO 91 VERSION 2
A7: COLABORADOR | B7: CARGO | D7: PROCESO | F7: FECHA DE INGRESO
A8: TOMAS MONTIEL ROBEDO | B8: OPERARARIO RECOLECTOR | D8: ASEO | F8: 45713
A10: TEMA A ENTRENAR | B10: RECURSOS | C10: TIEMPO(1) (horas) | D10: RESPONSABLE DE IMPARTIR EL ENTRENAMIENTO | E10: FECHA / HORA | F10: FIRMA RESPONSABLE DE IMPARTIR EL ENTRENAMIENTO
A11: Rutas de Recolección de residuos organicos e inorgánicos y cuidados en vias publicas y carro recolector | B11: Tiempo Personal | C11: 16 horas | D11: Operario de Recolección
A12: Manejo y Operación del Relleno Sanitario: Recorrido, Uso de EPP | C12: 2 horas | D12: Operario de Recolección
A13: Guadañaje y planteo y poda de arboles | B13: Tiempo Personal | C13: 16 horas | D13: Operario de Recolección
A14: Limpieza de Cunetas y/o desagues | B14: Tiempo Personal | C14: 1 hora | D14: Operario de Recolección
A15: Conformación de Chimeneas | B15: Tiempo Personal | C15: 16 horas | D15: Operario de Recolección
A16: Mantenimiento de la Vía de Entrada con sus respectivos desagues | B16: Tiempo Personal | C16: 1 hora | D16: Operario de Recolección
A17: Mantenimiento de la lona | B17: Tiempo Personal | C17: 2 Horas | D17: Operario de Recolección
A18: Manejo de Compactador en plataforma y en planta de Orgánicos | B18: Tiempo Personal | C18: 1 hora | D18: Operario de Recolección
A19: Separación de Material Organico, conformación de pilas, apiques a las pilas. | B19: Tiempo Personal | C19: 8 horas | D19: Operario de Recolección
A20: Manejo de la Planta de lixiviados | B20: Tiempo Personal | C20: 8 horas | D20: Operario de Recolección
A21: Rutas de Recolección organicos e inorgánicos donde no ingresa el vehículo | B21: Tiempo Personal | C21: 8 horas | D21: Operario de Recolección
A22: Precauciones de Manipulacion de Residuos Solidos | B22: Tiempo Personal | C22: 1 Horas | D22: Operario de Recolección
A23: Manejo de Cajas Estacionarias | B23: Tiempo Personal | C23: 1 Horas | D23: Operario de Recolección
A24: (1) Los programas de entrenamiento tienen una duración máxima de 2 meses. Las horas asignadas a cada tema podrían ser modificadas de acuerdo con énfasis específicos que se quieran hacer.
A26: OBSERVACIONES DEL LÍDER INMEDIATO SOBRE EL ENTRENAMIENTO
A35: NOMBRE DEL LIDER INMEDIATO | B35: COLABORADOR | D35: FECHA

Sheet YENNY  BOTERO GOMEZ

Sheet FABIO NELSON GIRALDO 
B1: PROGRAMA DE ENTRENAMIENTO | F1: Código: F73 Versión: 1
A7: COLABORADOR | B7: CARGO | D7: PROCESO | F7: FECHA DE INGRESO
A8: FABIO NELSON GIRALDO QUINTERO | B8: OPERARIO DE RECOLECCION | D8: ASEO | F8: OCTBRE 07 DE 2024
A9: TEMA A ENTRENAR | B9: RECURSOS | C9: TIEMPO (1) (horas) | D9: RESPONSABLE DE IMPARTIR EL ENTRENAMIENTO | E9: FECHA / HORA | F9: FIRMA RESPONSABLE DE IMPARTIR EL ENTRENAMIENTO
A10: Rutas de Recolección de residuos organicos e inorgánicos y cuidados en vias publicas y carro recolector | B10: Tiempo Personal | C10: 16 horas | D10: Operario de Recolección
A11: Manejo y Operación del Relleno Sanitario: Recorrido, Uso de EPP | B11: ='MATRIZ DE ENTRENAMIENTO '!A26 -> Operario de Recolección y disposición Final | C11: ='MATRIZ DE ENTRENAMIENTO '!B26 -> Manejo y Operación del Relleno Sanitario: Recorrido, Uso de EPP | D11: Operario de Recolección
A12: Guadañaje y planteo y poda de arboles | B12: Tiempo Personal | C12: ='MATRIZ DE ENTRENAMIENTO '!B27 -> Guadañaje | D12: Operario de Recolección
A13: Limpieza de Cunetas y/o desagues | B13: Tiempo Personal | C13: ='MATRIZ DE ENTRENAMIENTO '!B29 -> Limpieza de Cunetas y/o desagues | D13: Operario de Recolección
A14: Conformación de Chimeneas | B14: Tiempo Personal | C14: ='MATRIZ DE ENTRENAMIENTO '!B31 -> Conformación de Chimeneas | D14: Operario de Recolección
A15: Mantenimiento de la Vía de Entrada con sus respectivos desagues | B15: Tiempo Personal | C15: ='MATRIZ DE ENTRENAMIENTO '!B33 -> Mantenimiento de la Vía de Entrada con sus respectivos desagues | D15: Operario de Recolección
A16: Mantenimiento de la lona | B16: Tiempo Personal | C16: ='MATRIZ DE ENTRENAMIENTO '!B34 -> Mantenimiento de la lona | D16: Operario de Recolección
A17: Manejo de Compactador en plataforma y en planta de Orgánicos | B17: Tiempo Personal | C17: ='MATRIZ DE ENTRENAMIENTO '!B35 -> Manejo de Compactador en plataforma y en planta de Orgánicos | D17: Operario de Recolección
A18: Separación de Material Organico, conformación de pilas, apiques a las pilas. | B18: Tiempo Personal | C18: ='MATRIZ DE ENTRENAMIENTO '!B36 -> Separación de Material Organico, conformación de pilas, apiques a las pilas. | D18: Operario de Recolección
A19: Manejo de la Planta de lixiviados | B19: Tiempo Personal | C19: ='MATRIZ DE ENTRENAMIENTO '!B37 -> Manejo de la Planta de lixiviados | D19: Operario de Recolección
A20: Rutas de Recolección organicos e inorgánicos donde no ingresa el vehículo | B20: Tiempo Personal | C20: 8 horas | D20: Operario de Recolección
A21: Precauciones de Manipulacion de Residuos Solidos | B21: Tiempo Personal | C21: 1 Horas | D21: Operario de Recolección
A22: Manejo de Cajas Estacionarias | B22: Tiempo Personal | C22: 1 Horas | D22: Operario de Recolección
A23: (1) Los programas de entrenamiento tienen una duración máxima de 2 meses. Las horas asignadas a cada tema podrían ser modificadas de acuerdo con énfasis específicos que se quieran hacer.
A25: OBSERVACIONES DEL LÍDER INMEDIATO SOBRE EL ENTRENAMIENTO
A26: NOMBRE DEL LIDER INMEDIATO | B26: NOMBRE DEL COLABORADOR | D26: FECHA

Sheet ANDRES VALENCIA  USME
A1: PROGRAMA DE ENTRENAMIENTO | E1: Código: F73 Versión: 1
A7: CARGO | C7: PROCESO | E7: FECHA DE INGRESO
A8: CONDUCTOR CAMIONETA | C8: ACUEDUCTO Y ALLDO. | E8: OCTUBRE/03/2024
D10: FECHA / HORA | E10: FIRMA RESPONSABLE DE IMPARTIR EL ENTRENAMIENTO
A11: Tiempo Personal | B11: 8 horas | C11: Director tecnico
A12: Tiempo Personal | B12: 8 horas | C12: Director tecnico
A13: Tiempo Personal | B13: 4 Horas | C13: Coordinadora SGI
A14: Tiempo Personal | B14: 6 horas | C14: Coordinador (a) Tecnica
A15: Tiempo Personal | B15: 10 horas | C15: Coordinadpora tecnica Operadores de acueducto y alcantarillado
A16: Tiempo personal | B16: 4 Horas | C16: Coordinador (a) Tecnica
A17: Tiempo Personal | B17: 6 horas | C17: Coordinador (a) Tecnica
A18: Tiempo Personal | B18: 4 horas | C18: Coordinadora Tecnica
A19: Tiempo Personal | B19: 2 Horas | C19: Coordinadora Tecnica
A20: Tiempo Personal | B20: 2 horas | C20: Coordinadora Tecnica
A21: Tiempo Personal | B21: 2 horas | C21: Coordinador SST
A22: Tiempo Personal | B22: 6 horas | C22: Coordinadora Tecnica
A31: NOMBRE DEL COLABORADOR | C31: FECHA

Sheet DANIELA GIRALDO DUQUE
D1: PROGRAMA DE ENTRENAMIENTO | H1: Código: F73 Versión: 1
C7: COLABORADOR | D7: CARGO | F7: PROCESO | H7: FECHA DE INGRESO
C8: DANIELA GIRALDO DUQUE | D8: DIRECTORA DE PLANTAS Y LABORATORIOS | F8: ACUEDUCTO Y ALLDO. | H8: AGOSTO 28 DE 2024
G10: FECHA / HORA | H10: FIRMA RESPONSABLE DE IMPARTIR EL ENTRENAMIENTO
C11: Contratación y Supervisión: Elaboracion de Estudios previos, contratacion estatal, supervisión de contratos del Area. | D11: Tiempo Personal | E11: 8 horas | F11: Coordinadora Tecnica
C12: Dirigir y realizar control operacional de las plantas, velando por el suministro de los insumos y recursos requeridos. | D12: Tiempo Personal | E12: 8 horas | F12: Coordinador (a) Tecnica
C13: Manejo de las herramientas del sistema de Gestión Integral: Indicadores, Matriz ACPM, Matriz de Riesgos, Procedimientos, Manuales e instructivos del Área | D13: Tiempo Personal | E13: 4 Horas | F13: Coordinadora SGI
C14: Responsable de la direccion y control de los laboratorios | D14: Tiempo Personal | E14: 6 horas | F14: Coordinadora Tecnica
C15: Identificación y reconocimiento de sistemas operativos: PTAP, PTAR, Captaciones y Planta de Lixiviados | D15: Tiempo Personal | E15: 10 horas | F15: Coordinadpora tecnica Operadores de Plantas y supervisor de Relleno
C16: Atender los requerimientos solicitados por parte de la Autoridad Ambiental y los entes de control. | D16: Tiempo personal | E16: 4 Horas | F16: Coordinador (a) Tecnica
C17: Reconocimiento de contratos en ejecución objeto de supervisión por parte de la Dirección de Plantas y laboratorio | D17: Tiempo Personal | E17: 6 horas | F17: Coordinador (a) Tecnica
C18: Responder los requerimientos de los entes de control | D18: Tiempo Personal | E18: 4 horas | F18: Coordinadora Tecnica
C19: Velar y responder por la gestion ambiental del area | D19: Tiempo Personal | E19: 2 Horas | F19: Coordinadora Tecnica
C20: Participar en los comites como represetacion del area | D20: Tiempo Personal | E20: 2 horas | F20: Coordinadora Tecnica
C21: Seguridad y Salud en el Trabajo | D21: Tiempo Personal | E21: 2 horas | F21: Coordinador SST
C22: Gestionar e impulsar los proyectos de mejoramiento de la infraestructura de las plantas y laboratorios | D22: Tiempo Personal | E22: 6 horas | F22: Coordinadora Tecnica
C23: (1) Los programas de entrenamiento tienen una duración máxima de 2 meses. Las horas asignadas a cada tema podrían ser modificadas de acuerdo con énfasis específicos que se quieran hacer.
C25: OBSERVACIONES DEL LÍDER INMEDIATO SOBRE EL ENTRENAMIENTO
C31: NOMBRE DEL LIDER INMEDIATO | D31: NOMBRE DEL COLABORADOR | F31: FECHA

Sheet UBERNEY DUQUE RESTREPO
D1: PROGRAMA DE ENTRENAMIENTO | H1: Código: F73 Versión: 1
C7: COLABORADOR | D7: CARGO | F7: PROCESO | H7: FECHA DE INGRESO
C8: UBERNEY DUQUE RESTREPO | D8: OPERARIO PLANTA DE ORGANICOS | F8: ASEO | H8: AGOSTO 12 DE 2024
C10: TEMA A ENTRENAR | D10: RECURSOS | E10: TIEMPO (1) (horas) | F10: RESPONSABLE DE IMPARTIR EL ENTRENAMIENTO | G10: FECHA / HORA | H10: FIRMA RESPONSABLE DE IMPARTIR EL ENTRENAMIENTO
C11: Manejo de Compactador en plataforma y en planta de Orgánicos | D11: Tiempo Personal | E11: 1 hora | F11: Operario Planta de Orgánicos y supervisor relleno
C12: Separación de Material Organico | D12: Tiempo Personal | E12: 2 Horas | F12: Operario Planta de Orgánicos y Supervisor relleno
C13: Conformacion de Pilas | D13: Tiempo Personal | E13: 2 Horas | F13: Operario Planta de Orgánicos
C14: Apiques de aireación | D14: Tiempo Personal | E14: 2 Horas | F14: Operario Planta de Orgánicos
C15: Mantenimiento relleno | D15: Tiempo Personal | E15: 4 horas | F15: Supervisor relleno
C16: Mantenimiento planta lixiviados | D16: Tiempo Personal | E16: 2 Horas | F16: Supervisor relleno
C20: (1) Los programas de entrenamiento tienen una duración máxima de 2 meses. Las horas asignadas a cada tema podrían ser modificadas de acuerdo con énfasis específicos que se quieran hacer.
C22: OBSERVACIONES DEL LÍDER INMEDIATO SOBRE EL ENTRENAMIENTO
C31: NOMBRE DEL LIDER INMEDIATO | D31: COLABORADOR | F31: FECHA

Sheet YESSICA CASTAÑO GONZALEZ
D1: PROGRAMA DE ENTRENAMIENTO | H1: Código: F73 Versión: 1
C7: COLABORADOR | D7: CARGO | F7: PROCESO | H7: FECHA DE INGRESO
C8: YESSICA CASTAÑO GONZALEZ | D8: OPERARIO LECTOR | F8: COMERCIAL | H8: JUNIO 07 DE 2024
C10: TEMA A ENTRENAR | D10: RECURSOS | E10: TIEMPO (1) (horas) | F10: RESPONSABLE DE IMPARTIR EL ENTRENAMIENTO | G10: FECHA / HORA | H10: FIRMA RESPONSABLE DE IMPARTIR EL ENTRENAMIENTO
C11: Rutas de Lectura y entrega de facturas en campo por todo el Municipio | D11: Tiempo Personal | E11: 40 horas | F11: Operaria Lectora Asistente Comercial
C12: Manejo de la Tablet o el Celu Web | D12: Celuweb, Tiempo Personal | E12: 12 horas | F12: Operaria Lectora
C13: Lectura de Medidores | D13: Celuweb, Tiempo Personal | E13: 20 horas | F13: Operaria Lectora
C14: Manejo de Codigos | D14: Tiempo Personal | E14: 20 horas | F14: Operaria Lectora y Auxiliar Comercial
C15: Cambios de Medidores | D15: Tiempo Personal | E15: 40 horas | F15: Operaria Lectora
C16: Suspensiones y Reinstalaciones | D16: Tiempo Personal | E16: 50 horas | F16: Operaria Lectora y Asistente comercial
C17: Críticas Aleatorias altos y bajos consumos, medidores frenados, casas solas | D17: Tiempo Personal | E17: 40 horas | F17: Operaria Lectora y Asistente comercial
C18: Revisiones Previas: Por debido proceso | D18: Tiempo Personal | E18: 40 horas | F18: Operaria Lectora y Auxiliar Comercial
C20: (1) Los programas de entrenamiento tienen una duración máxima de 2 meses. Las horas asignadas a cada tema podrían ser modificadas de acuerdo con énfasis específicos que se quieran hacer.
C22: OBSERVACIONES DEL LÍDER INMEDIATO SOBRE EL ENTRENAMIENTO
C31: NOMBRE DEL LIDER INMEDIATO | D31: NOMBRE DEL COLABORADOR | F31: FECHA

Sheet MANUELA SIERRA ZULUAGA
D1: PROGRAMA DE ENTRENAMIENTO | H1: Código: F73 Versión: 1
C7: COLABORADOR | D7: CARGO | F7: PROCESO | H7: FECHA DE INGRESO
C8: MANUELA SIERRA ZULUAGA | D8: COORDINADORA DE COMUNICACIONES | F8: TODOS | H8: ENERO 04 DE 2024
C10: TEMA A ENTRENAR | D10: RECURSOS | E10: TIEMPO (1) (horas) | F10: RESPONSABLE DE IMPARTIR EL ENTRENAMIENTO | G10: FECHA / HORA | H10: FIRMA RESPONSABLE DE IMPARTIR EL ENTRENAMIENTO
C11: Hacer publicaciones con información de interés en cuanto al cumplimiento de la ley 1712 de gobierno en línea para la comunidad. | D11: Tiempo Personal | E11: 8 horas | F11: Director Administrativo
C12: Mantener informada a clientes internos y externos sobre los contenidos relevantes y de interés como las actividades y la creación de conciencia ambiental e informacion de interes. | D12: Tiempo Personal | E12: 5 horas | F12: Director Administrativo
C13: Coordinar el proceso de logística para los eventos y actividades de la entidad e impulsar la cultura ESPA. | D13: Tiempo Personal | E13: 2 horas | F13: Director Administrativo
C14: Responsable del plan de comunicaciones de la ESPA. | D14: Tiempo Personal | E14: 4 horas | F14: Director Administrativo
C15: Brindar apoyo a las demás áreas en cuanto al desarrollo de la imagen corporativa | D15: Tiempo Personal | E15: 2 horas | F15: Director Administrativo
C16: Coordinar y apoyar la realizacion de todos los procesos contractuales del area de comunicaciones ESPA. | D16: Tiempo Personal | E16: 8 horas | F16: Director Administrativo
C17: Realizar los seguimientos y supervisiones a todos los contratos que esten en ejecucion en el area de comunicaciones. | D17: Tiempo Personal | E17: 2 horas | F17: Director Administrativo
C18: Realizar el seguimiento, mejoramiento e ingresos de contenidos en la pagina web de la Empresa. | D18: Tiempo Personal | E18: 2 horas | F18: Director Administrativo
C19: Responsable del manejo, actualizacion y seguimiento a la pagina WEB de la ESPA | D19: Tiempo Personal | E19: 4 horas | F19: Director Administrativo
C20: (1) Los programas de entrenamiento tienen una duración máxima de 2 meses. Las horas asignadas a cada tema podrían ser modificadas de acuerdo con énfasis específicos que se quieran hacer.
C22: OBSERVACIONES DEL LÍDER INMEDIATO SOBRE EL ENTRENAMIENTO
C27: NOMBRE DEL LIDER INMEDIATO | D27: NOMBRE DEL COLABORADOR | F27: FECHA

Sheet VICTOR ALFONSO ORTIZ GOMEZ
D1: PROGRAMA DE ENTRENAMIENTO | H1: Código: F73 Versión: 1
C7: COLABORADOR | D7: CARGO | F7: PROCESO | H7: FECHA DE INGRESO
C8: VICTOR ALFONSO ORTIZ GOMEZ | D8: Director tecnico de infraestructura y redes de acueducto y Alldo. | F8: ACUEDUCTO Y ALLDO. | H8: ENERO 04 DE 2024
G10: FECHA / HORA | H10: FIRMA RESPONSABLE DE IMPARTIR EL ENTRENAMIENTO
C11: Contratación y Supervisión: Elaboracion de Estudios previos, contratacion estatal, supervisión de contratos del Area. | D11: Tiempo Personal | E11: 8 horas | F11: Director Administrativo
C12: Verificar y controlar el cumplimiento de las actividades y proyecciones establecidas en el PMAA acogido por la empresa. | D12: Tiempo Personal | E12: 8 horas | F12: Coordinador (a) Tecnica
C13: Manejo de las herramientas del sistema de Gestión Integral: Indicadores, Matriz ACPM, Matriz de Riesgos, Procedimientos e instructivos del Área | D13: Tiempo Personal | E13: 4 Horas | F13: Coordinadora SGI
C14: Manejo de sistema de Información ESPA (herramienta de registro REDES DISTRIBUCION, PTAP y PTAR) | D14: Tiempo Personal, Transporte | E14: 2 horas | F14: Coordinadora Tecnica
C15: Identificación y reconocimiento de sistemas operativos: PTAP, PTAR, Captaciones | D15: Tiempo Personal | E15: 4 horas | F15: Coordinadpora tecnica Operadores de Plantas y Relleno
C16: Atender los requerimientos solicitados por parte de la Autoridad Ambiental y los entes de control. | D16: Tiempo personal | E16: 4 Horas | F16: Coordinador (a) Tecnica
C17: Reconocimiento de contratos en ejecución objeto de supervisión por parte de la dirección tecnica | D17: Tiempo Personal | E17: 4 horas | F17: Coordinador (a) Tecnica
C18: Plan de Obras e Inversiones Regulado POIR,. | D18: Tiempo Personal | E18: 2 horas | F18: Asistente Comercial
C19: Codificación Usuarios Acueducto y Alcantarillado, Interpretación de Factura | D19: Tiempo Personal | E19: 2 Hora | F19: Asistente Comercial
C20: Seguridad y Salud en el Trabajo | D20: Tiempo Personal | E20: 2 horas | F20: Coordinador SST
C21: Factibilidades de servicio, comocimiento de las redes de acueducto y alcantarillado | D21: Tiempo Personal | E21: 10 horas | F21: Tecnico Operativo Acueducto y Alldo.
C22: (1) Los programas de entrenamiento tienen una duración máxima de 2 meses. Las horas asignadas a cada tema podrían ser modificadas de acuerdo con énfasis específicos que se quieran hacer.
C24: OBSERVACIONES DEL LÍDER INMEDIATO SOBRE EL ENTRENAMIENTO
C30: NOMBRE DEL LIDER INMEDIATO | D30: NOMBRE DEL COLABORADOR | F30: FECHA

Sheet LAURA VALENTIANA RINCON 
B1: PROGRAMA DE ENTRENAMIENTO | F1: Código: F73 Versión: 1
A7: COLABORADOR | B7: CARGO | D7: PROCESO | F7: FECHA DE INGRESO
A8: LAURA VALENTINA RINCON | B8: COORDINADORA DE ASEO | D8: ASEO | F8: DICIEMBRE 01 DE 2023
A10: TEMA A ENTRENAR | B10: RECURSOS | C10: TIEMPO (1) (horas) | D10: RESPONSABLE DE IMPARTIR EL ENTRENAMIENTO | E10: FECHA / HORA | F10: FIRMA RESPONSABLE DE IMPARTIR EL ENTRENAMIENTO
A11: Contratación y Supervisión: Elaboración de Estudios previos, contratacion estatal, supervisión de contratos | B11: Tiempo Personal | C11: 10 Horas | D11: Director Aseo
A12: Manejo de las herramientas del sistema de Gestión Integral: Indicadores, Matriz ACPM, Matriz de Riesgos, Procedimientos e instructivos del Área | B12: Tiempo Personal | C12: 10 horas | D12: Director Aseo
A13: Identificación y reconocimiento de sistemas operativos: Barrido, recolección y Transporte y Relleno Sanitario | B13: Tiempo Personal | C13: 10 horas | D13: Supervisor Barrido, Relleno sanitario y Conductores
A14: Reconocimiento de contratos en ejecución objeto de supervisión por parte de la dirección de Aseo | B14: Tiempo Personal | C14: 16 horas | D14: Director Aseo y Supervisores barrido, relleno y conductores
A15: Seguridad y Salud en el Trabajo | B15: Tiempo Personal | C15: 8 horas | D15: coordinadora de SST
A16: Sistema de Gestión Ambiental ESPA (Estado de Licencias y permisos Ambientales) | B16: Tiempo Personal | C16: 8 horas | D16: Director Aseo
A17: Aforos grandes generadores | B17: Tiempo Personal | C17: 8 horas | D17: Director Aseo
A18: Normatividad del Area de Aseo y programa PEGIRS | B18: Tiempo Personal | C18: 10 horas | D18: Asistente MIRS
A19: Plan estratégico de Seguridad Vial PESV | B19: Tiempo Personal | C19: 10 horas | D19: coordinadora de SST
H20: 38
A22: OBSERVACIONES DEL LÍDER INMEDIATO SOBRE EL ENTRENAMIENTO
A27: NOMBRE DEL LIDER INMEDIATO | B27: NOMBRE DEL COLABORADOR | D27: FECHA
B28: GADYS ESTELL GARCI

Sheet SARA HELENA  CUARTAS SERNA 

Sheet MARCOS ALBERTO JARAMILLO H.
D1: PROGRAMA DE ENTRENAMIENTO | H1: Código: F73 Versión: 1
C7: COLABORADOR | D7: CARGO | F7: PROCESO | H7: FECHA DE INGRESO
C8: MARCOS ALBERTO JARAMILLO HIGUITA | D8: OPERARIO PLANTA DE ORGANICOS | F8: ASEO | H8: JUNIO 28 DE 2023
C10: TEMA A ENTRENAR | D10: RECURSOS | E10: TIEMPO (1) (horas) | F10: RESPONSABLE DE IMPARTIR EL ENTRENAMIENTO | G10: FECHA / HORA | H10: FIRMA RESPONSABLE DE IMPARTIR EL ENTRENAMIENTO
C11: Manejo de Compactador en plataforma y en planta de Orgánicos | D11: Tiempo Personal | E11: 1 hora | F11: Operario Planta de Orgánicos y supervisor relleno
C12: Separación de Material Organico | D12: Tiempo Personal | E12: 2 Horas | F12: Operario Planta de Orgánicos y Supervisor relleno
C13: Conformacion de Pilas | D13: Tiempo Personal | E13: 2 Horas | F13: Operario Planta de Orgánicos
C14: Apiques de aireación | D14: Tiempo Personal | E14: 2 Horas | F14: Operario Planta de Orgánicos
C15: Mantenimiento, guadaña y poda de arboles | D15: Tiempo Personal | E15: 3 horas | F15: supervisor de relleno
C16: Mantenimiento planta de lixivados | D16: Tiempo Personal | E16: 3 horas | F16: Operario planta de organicos y supervisor relleno
C20: (1) Los programas de entrenamiento tienen una duración máxima de 2 meses. Las horas asignadas a cada tema podrían ser modificadas de acuerdo con énfasis específicos que se quieran hacer.
C22: OBSERVACIONES DEL LÍDER INMEDIATO SOBRE EL ENTRENAMIENTO
C31: NOMBRE DEL LIDER INMEDIATO | D31: COLABORADOR | F31: FECHA

Sheet JUAN JOSE PUERTA HENAO
D1: PROGRAMA DE ENTRENAMIENTO | H1: Código: F73 Versión: 1
C7: COLABORADOR | D7: CARGO | F7: PROCESO | H7: FECHA DE INGRESO
C8: JUAN JOSE PUERTA HENAO | D8: COORDINADORA DE COMUNICACIONES | F8: TODOS | H8: JUNIO 27 DE 2023
C10: TEMA A ENTRENAR | D10: RECURSOS | E10: TIEMPO (1) (horas) | F10: RESPONSABLE DE IMPARTIR EL ENTRENAMIENTO | G10: FECHA / HORA | H10: FIRMA RESPONSABLE DE IMPARTIR EL ENTRENAMIENTO
C11: Hacer publicaciones con información de interés en cuanto al cumplimiento de la ley 1712 de gobierno en línea para la comunidad. | D11: Tiempo Personal | E11: 8 horas
C12: Mantener informada a clientes internos y externos sobre los contenidos relevantes y de interés como las actividades y la creación de conciencia ambiental e informacion de interes. | D12: Tiempo Personal | E12: 5 horas | F12: Director Administrativo
